BEGIN:VCALENDAR
VERSION:2.0
PRODID:-//Coca-Cola External Career Website - ECPv6.15.12.2//NONSGML v1.0//EN
CALSCALE:GREGORIAN
METHOD:PUBLISH
X-WR-CALNAME:Coca-Cola External Career Website
X-ORIGINAL-URL:https://careers.coca-colacompany.com
X-WR-CALDESC:Events for Coca-Cola External Career Website
REFRESH-INTERVAL;VALUE=DURATION:PT1H
X-Robots-Tag:noindex
X-PUBLISHED-TTL:PT1H
BEGIN:VTIMEZONE
TZID:America/New_York
BEGIN:DAYLIGHT
TZOFFSETFROM:-0500
TZOFFSETTO:-0400
TZNAME:EDT
DTSTART:20250309T070000
END:DAYLIGHT
BEGIN:STANDARD
TZOFFSETFROM:-0400
TZOFFSETTO:-0500
TZNAME:EST
DTSTART:20251102T060000
END:STANDARD
BEGIN:DAYLIGHT
TZOFFSETFROM:-0500
TZOFFSETTO:-0400
TZNAME:EDT
DTSTART:20260308T070000
END:DAYLIGHT
BEGIN:STANDARD
TZOFFSETFROM:-0400
TZOFFSETTO:-0500
TZNAME:EST
DTSTART:20261101T060000
END:STANDARD
BEGIN:DAYLIGHT
TZOFFSETFROM:-0500
TZOFFSETTO:-0400
TZNAME:EDT
DTSTART:20270314T070000
END:DAYLIGHT
BEGIN:STANDARD
TZOFFSETFROM:-0400
TZOFFSETTO:-0500
TZNAME:EST
DTSTART:20271107T060000
END:STANDARD
END:VTIMEZONE
BEGIN:VEVENT
DTSTART;TZID=America/New_York:20260109T120000
DTEND;TZID=America/New_York:20260109T130000
DTSTAMP:20260422T032451
CREATED:20260105T161407Z
LAST-MODIFIED:20260105T161407Z
UID:3073-1767960000-1767963600@careers.coca-colacompany.com
SUMMARY:Ignite Your Potential: Resume & Interview Prep Session #1
DESCRIPTION:Join The Coca‑Cola Company’s Early Careers team for a virtual resume and interview prep session. We’ll share practical approaches to help you apply with confidence when internship applications open on January 12. \nPlease note that the link to join the session will be sent out 24-48 hours before the webinar begins. \nRegister
URL:https://careers.coca-colacompany.com/event/ignite-your-potential-resume-interview-prep-session-1/
LOCATION:Alabama
CATEGORIES:Student
END:VEVENT
BEGIN:VEVENT
DTSTART;TZID=America/New_York:20260116T120000
DTEND;TZID=America/New_York:20260116T130000
DTSTAMP:20260422T032451
CREATED:20260105T161439Z
LAST-MODIFIED:20260105T161439Z
UID:3076-1768564800-1768568400@careers.coca-colacompany.com
SUMMARY:Ignite Your Potential: Resume & Interview Prep Session #2
DESCRIPTION:Join The Coca‑Cola Company’s Early Careers team for a virtual resume and interview prep session. We’ll share practical approaches to help you apply with confidence when internship applications open on January 12. \nPlease note that the link to join the session will be sent out 24-48 hours before the webinar begins. \nRegister
URL:https://careers.coca-colacompany.com/event/ignite-your-potential-resume-interview-prep-session-2/
LOCATION:Alabama
CATEGORIES:Student
END:VEVENT
END:VCALENDAR